BEGIN:VCALENDAR
VERSION:2.0
PRODID:-//Blaine&#039;s Sewing - ECPv6.15.17.1//NONSGML v1.0//EN
CALSCALE:GREGORIAN
METHOD:PUBLISH
X-ORIGINAL-URL:https://blainesewing.com
X-WR-CALDESC:Events for Blaine&#039;s Sewing
REFRESH-INTERVAL;VALUE=DURATION:PT1H
X-Robots-Tag:noindex
X-PUBLISHED-TTL:PT1H
BEGIN:VTIMEZONE
TZID:UTC
BEGIN:STANDARD
TZOFFSETFROM:+0000
TZOFFSETTO:+0000
TZNAME:UTC
DTSTART:20240101T000000
END:STANDARD
END:VTIMEZONE
BEGIN:VEVENT
DTSTART;TZID=UTC:20251004T103000
DTEND;TZID=UTC:20251004T123000
DTSTAMP:20260420T135623
CREATED:20250903T180534Z
LAST-MODIFIED:20250903T180534Z
UID:1147-1759573800-1759581000@blainesewing.com
SUMMARY:Winny Quilt
DESCRIPTION:Class Name: Winny quilt by Gudrun Erla\nClass Description: This is a quick and easy quilt using Stripology rulers.  It’s intended as an easy beginner quilt!  Come with a sense of humor and ready to learn how to use a time saving and efficient ruler! \nOctober 4\, 11\, & 18\nTime:10:30-12:30\nFee: $60.00 \nSupplies list:\nStripology Quickies by Gudrun Erla\nSewing machine in good working order\nyardage according to pattern\nStripology XL or squared ruler\nRotary cutter with a new blade\nNeutral or matching thread\nSewing machine with a new needle in  place\nBest Press-very helpful!\nGEasy Ruler stickers-optional
URL:https://blainesewing.com/event/winny-quilt-2/
LOCATION:Blaine’s Sewing Machine Center\, 1280 Oaklawn Ave\, Cranston\, RI\, 02920\, United States
ATTACH;FMTTYPE=image/jpeg:https://blainesewing.com/wp-content/uploads/2025/09/winny.jpg
END:VEVENT
BEGIN:VEVENT
DTSTART;TZID=UTC:20251008T103000
DTEND;TZID=UTC:20251008T123000
DTSTAMP:20260420T135623
CREATED:20250919T154829Z
LAST-MODIFIED:20250919T154829Z
UID:1200-1759919400-1759926600@blainesewing.com
SUMMARY:Free Motion Quilting on a domestic machine - PREP CLASS
DESCRIPTION:Free-motion Quilting on Your Domestic Machine***\nWould you like to quilt your own quilts\, but are reluctant to tackle a large project? Let’s start out small. In class 1\, you will learn the 5 basic quilting shapes and how to combine them to make patterns on your quilts. Class 2 will focus on filler designs and using stencils.\n***If you have not taken either Quilting 101 or Ruler Work 101\, you need to attend a 2-hour session to prepare for quilting. The class covers needles\, threads\, batting and other essentials for free motion success. This class will be held the morning of Session 1. There is an additional fee of $20.00 for this class.\nTeacher: Marilynn Bouclin\nDates: October 8th\, 10:30-12:30 for the quilting prep class\n             October 8th\, 1:00- 4:00\, Session 1\n              October 29th\, 10:30- 1:30\, Session 2\nCost: $65.00 for Sessions 1 and 2\nPLEASE CALL TO SIGN UP FOR CLASS \nSupplies: All materials listed below are carried by Blaine’s.\n•	Machine with darning (free motion) foot or BSR(Bernina)\, foot pedal and some kind of extension table\n•	Sewing machine manual\, just in case\n•	Single needle plate\, if you have it.\n•	Quilting Needle for your machine\, 90/14.\n•	Thread- please bring a color that is bright enough for you to see (no neutrals).\n•	Machingers (gloves for gripping fabric.)\n•	24 inch x WOF (about 42 inch) muslin quilt sandwiches. We will assemble them during class.\n•	Spray baste. I recommend 505.\n•	 Supreme Slider (a mat you place on your machine to help your material move)\n•	Self-threading needles\n•	Marking pen. I recommend the blue\, wash away one or Frixion pen.\n•	A ruler in case you want to make extra lines\n•	Any other notions you need for sewing
URL:https://blainesewing.com/event/free-motion-quilting-on-a-domestic-machine-prep-class/
ATTACH;FMTTYPE=image/jpeg:https://blainesewing.com/wp-content/uploads/2025/09/53989656980_a271f45f3e_c_d.jpg
END:VEVENT
BEGIN:VEVENT
DTSTART;TZID=UTC:20251008T130000
DTEND;TZID=UTC:20251008T160000
DTSTAMP:20260420T135623
CREATED:20250919T155033Z
LAST-MODIFIED:20250919T155033Z
UID:1204-1759928400-1759939200@blainesewing.com
SUMMARY:Free Motion Quilting on a domestic machine - Session 1
DESCRIPTION:Free-motion Quilting on Your Domestic Machine***\nWould you like to quilt your own quilts\, but are reluctant to tackle a large project? Let’s start out small. In class 1\, you will learn the 5 basic quilting shapes and how to combine them to make patterns on your quilts. Class 2 will focus on filler designs and using stencils.\n***If you have not taken either Quilting 101 or Ruler Work 101\, you need to attend a 2-hour session to prepare for quilting. The class covers needles\, threads\, batting and other essentials for free motion success. This class will be held the morning of Session 1. There is an additional fee of $20.00 for this class.\nTeacher: Marilynn Bouclin\nDates: October 8th\, 10:30-12:30 for the quilting prep class\n             October 8th\, 1:00- 4:00\, Session 1\n              October 29th\, 10:30- 1:30\, Session 2\nCost: $65.00 for Sessions 1 and 2\nPLEASE CALL TO SIGN UP FOR CLASS \nSupplies: All materials listed below are carried by Blaine’s.\n•	Machine with darning (free motion) foot or BSR(Bernina)\, foot pedal and some kind of extension table\n•	Sewing machine manual\, just in case\n•	Single needle plate\, if you have it.\n•	Quilting Needle for your machine\, 90/14.\n•	Thread- please bring a color that is bright enough for you to see (no neutrals).\n•	Machingers (gloves for gripping fabric.)\n•	24 inch x WOF (about 42 inch) muslin quilt sandwiches. We will assemble them during class.\n•	Spray baste. I recommend 505.\n•	 Supreme Slider (a mat you place on your machine to help your material move)\n•	Self-threading needles\n•	Marking pen. I recommend the blue\, wash away one or Frixion pen.\n•	A ruler in case you want to make extra lines\n•	Any other notions you need for sewing
URL:https://blainesewing.com/event/free-motion-quilting-on-a-domestic-machine-session-1/
ATTACH;FMTTYPE=image/jpeg:https://blainesewing.com/wp-content/uploads/2025/09/53989656980_a271f45f3e_c_d.jpg
END:VEVENT
BEGIN:VEVENT
DTSTART;TZID=UTC:20251009T050000
DTEND;TZID=UTC:20251009T190000
DTSTAMP:20260420T135623
CREATED:20250919T165846Z
LAST-MODIFIED:20250919T165846Z
UID:1207-1759986000-1760036400@blainesewing.com
SUMMARY:Sewing With Donna PM
DESCRIPTION:Call the store for more info today!
URL:https://blainesewing.com/event/sewing-with-donna-pm/
ATTACH;FMTTYPE=image/jpeg:https://blainesewing.com/wp-content/uploads/2025/09/Sewing-with-Donna.jpg
END:VEVENT
BEGIN:VEVENT
DTSTART;TZID=UTC:20251011T103000
DTEND;TZID=UTC:20251011T123000
DTSTAMP:20260420T135623
CREATED:20250903T180000Z
LAST-MODIFIED:20250903T180454Z
UID:1130-1760178600-1760185800@blainesewing.com
SUMMARY:Winny Quilt (session 2)
DESCRIPTION:Class Name: Winny quilt by Gudrun Erla\nClass Description: This is a quick and easy quilt using Stripology rulers.  It’s intended as an easy beginner quilt!  Come with a sense of humor and ready to learn how to use a time saving and efficient ruler! \nOctober 4\, 11\, & 18\nTime:10:30-12:30\nFee: $60.00 \nSupplies list:\nStripology Quickies by Gudrun Erla\nSewing machine in good working order\nyardage according to pattern\nStripology XL or squared ruler\nRotary cutter with a new blade\nNeutral or matching thread\nSewing machine with a new needle in  place\nBest Press-very helpful!\nGEasy Ruler stickers-optional
URL:https://blainesewing.com/event/winny-quilt/
LOCATION:Blaine’s Sewing Machine Center\, 1280 Oaklawn Ave\, Cranston\, RI\, 02920\, United States
ATTACH;FMTTYPE=image/jpeg:https://blainesewing.com/wp-content/uploads/2025/09/winny.jpg
END:VEVENT
BEGIN:VEVENT
DTSTART;TZID=UTC:20251014T103000
DTEND;TZID=UTC:20251014T123000
DTSTAMP:20260420T135623
CREATED:20250919T170955Z
LAST-MODIFIED:20250919T170955Z
UID:1212-1760437800-1760445000@blainesewing.com
SUMMARY:Sewing With Donna AM
DESCRIPTION:Open Sew\, studio style sewing session held on Tuesday mornings or Thursday evenings\, bring you project and Donna will help you start to finish!
URL:https://blainesewing.com/event/sewing-with-donna-am-2/
ATTACH;FMTTYPE=image/jpeg:https://blainesewing.com/wp-content/uploads/2025/09/Sewing-with-Donna.jpg
END:VEVENT
BEGIN:VEVENT
DTSTART;TZID=UTC:20251016T050000
DTEND;TZID=UTC:20251016T190000
DTSTAMP:20260420T135623
CREATED:20250919T170709Z
LAST-MODIFIED:20250919T170709Z
UID:1209-1760590800-1760641200@blainesewing.com
SUMMARY:Sewing With Donna PM
DESCRIPTION:Call the store for more info today!
URL:https://blainesewing.com/event/sewing-with-donna-pm-2/
ATTACH;FMTTYPE=image/jpeg:https://blainesewing.com/wp-content/uploads/2025/09/Sewing-with-Donna.jpg
END:VEVENT
BEGIN:VEVENT
DTSTART;TZID=UTC:20251016T123000
DTEND;TZID=UTC:20251016T133000
DTSTAMP:20260420T135623
CREATED:20250919T173055Z
LAST-MODIFIED:20250919T173055Z
UID:1224-1760617800-1760621400@blainesewing.com
SUMMARY:Lunch & Learn with ME
DESCRIPTION:Bring your lunch or a snack\, and don’t forget your Show & Tell! Anyone who participates in show & tell will be entered into a drawing for a gift from Blaine’s. We encourage you to join us to share and learn new techniques with fellow embroiderers to build a community of creativity & camaraderie.\nWhen: 10/16/2025\nTime: 12:30-1:30\nFee: Free\n*Bring your lunch or snack and Show & Tell*
URL:https://blainesewing.com/event/lunch-learn-with-me-2/
LOCATION:Blaine’s Sewing Machine Center\, 1280 Oaklawn Ave\, Cranston\, RI\, 02920\, United States
END:VEVENT
BEGIN:VEVENT
DTSTART;TZID=UTC:20251018T103000
DTEND;TZID=UTC:20251018T123000
DTSTAMP:20260420T135623
CREATED:20250903T180635Z
LAST-MODIFIED:20250903T180635Z
UID:1148-1760783400-1760790600@blainesewing.com
SUMMARY:Winny Quilt (session 3)
DESCRIPTION:Class Name: Winny quilt by Gudrun Erla\nClass Description: This is a quick and easy quilt using Stripology rulers.  It’s intended as an easy beginner quilt!  Come with a sense of humor and ready to learn how to use a time saving and efficient ruler! \nOctober 4\, 11\, & 18\nTime:10:30-12:30\nFee: $60.00 \nSupplies list:\nStripology Quickies by Gudrun Erla\nSewing machine in good working order\nyardage according to pattern\nStripology XL or squared ruler\nRotary cutter with a new blade\nNeutral or matching thread\nSewing machine with a new needle in  place\nBest Press-very helpful!\nGEasy Ruler stickers-optional
URL:https://blainesewing.com/event/winny-quilt-session-3/
LOCATION:Blaine’s Sewing Machine Center\, 1280 Oaklawn Ave\, Cranston\, RI\, 02920\, United States
ATTACH;FMTTYPE=image/jpeg:https://blainesewing.com/wp-content/uploads/2025/09/winny.jpg
END:VEVENT
BEGIN:VEVENT
DTSTART;TZID=UTC:20251021T103000
DTEND;TZID=UTC:20251021T123000
DTSTAMP:20260420T135623
CREATED:20250919T171107Z
LAST-MODIFIED:20250919T171107Z
UID:1213-1761042600-1761049800@blainesewing.com
SUMMARY:Sewing With Donna AM
DESCRIPTION:Open Sew\, studio style sewing session held on Tuesday mornings or Thursday evenings\, bring you project and Donna will help you start to finish!
URL:https://blainesewing.com/event/sewing-with-donna-am-3/
ATTACH;FMTTYPE=image/jpeg:https://blainesewing.com/wp-content/uploads/2025/09/Sewing-with-Donna.jpg
END:VEVENT
BEGIN:VEVENT
DTSTART;TZID=UTC:20251023T050000
DTEND;TZID=UTC:20251023T190000
DTSTAMP:20260420T135623
CREATED:20250919T170753Z
LAST-MODIFIED:20250919T170753Z
UID:1210-1761195600-1761246000@blainesewing.com
SUMMARY:Sewing With Donna PM
DESCRIPTION:Call the store for more info today!
URL:https://blainesewing.com/event/sewing-with-donna-pm-3/
ATTACH;FMTTYPE=image/jpeg:https://blainesewing.com/wp-content/uploads/2025/09/Sewing-with-Donna.jpg
END:VEVENT
BEGIN:VEVENT
DTSTART;TZID=UTC:20251025T103000
DTEND;TZID=UTC:20251025T143000
DTSTAMP:20260420T135623
CREATED:20250923T210527Z
LAST-MODIFIED:20251008T161530Z
UID:1227-1761388200-1761402600@blainesewing.com
SUMMARY:Hello\, Goodbye and the 20th Year Celebration & Sale
DESCRIPTION:Join us for Karen and Bob’s 20 years of ownership at Blaine’s! \nCome wish them well on their upcoming retirement and say goodbye as they begin their next chapter.  \nAt the same time\, give a warm welcome to Kate and Tim as they take the reins and begin their own journey as the new owners! \nIn Celebration of 20 Years \nAll in-stock\, regular-priced merchandise on SALE! \nPLUS  \nSHOP OUR Stock Room Clean Out Sale and Help us support the RI Food Bank! \n• Pay less than cost on a wide selection of accessories\, kits\, store samples\, and more (THESE SELECT ITEMS WILL BE CASH ONLY FOR DONATION) \nStop by between 10:30 AM – 2:30 PM \nDon’t miss this chance to celebrate\, save\, and support a great cause!
URL:https://blainesewing.com/event/hello-goodbye-and-the-20th-year-celebration-sale/
ATTACH;FMTTYPE=image/jpeg:https://blainesewing.com/wp-content/uploads/2025/09/Celebration-and-sale.jpg
END:VEVENT
BEGIN:VEVENT
DTSTART;TZID=UTC:20251029T103000
DTEND;TZID=UTC:20251029T133000
DTSTAMP:20260420T135623
CREATED:20250919T155148Z
LAST-MODIFIED:20250919T155148Z
UID:1205-1761733800-1761744600@blainesewing.com
SUMMARY:Free Motion Quilting on a domestic machine - Session 2
DESCRIPTION:Free-motion Quilting on Your Domestic Machine***\nWould you like to quilt your own quilts\, but are reluctant to tackle a large project? Let’s start out small. In class 1\, you will learn the 5 basic quilting shapes and how to combine them to make patterns on your quilts. Class 2 will focus on filler designs and using stencils.\n***If you have not taken either Quilting 101 or Ruler Work 101\, you need to attend a 2-hour session to prepare for quilting. The class covers needles\, threads\, batting and other essentials for free motion success. This class will be held the morning of Session 1. There is an additional fee of $20.00 for this class.\nTeacher: Marilynn Bouclin\nDates: October 8th\, 10:30-12:30 for the quilting prep class\n             October 8th\, 1:00- 4:00\, Session 1\n              October 29th\, 10:30- 1:30\, Session 2\nCost: $65.00 for Sessions 1 and 2\nPLEASE CALL TO SIGN UP FOR CLASS \nSupplies: All materials listed below are carried by Blaine’s.\n•	Machine with darning (free motion) foot or BSR(Bernina)\, foot pedal and some kind of extension table\n•	Sewing machine manual\, just in case\n•	Single needle plate\, if you have it.\n•	Quilting Needle for your machine\, 90/14.\n•	Thread- please bring a color that is bright enough for you to see (no neutrals).\n•	Machingers (gloves for gripping fabric.)\n•	24 inch x WOF (about 42 inch) muslin quilt sandwiches. We will assemble them during class.\n•	Spray baste. I recommend 505.\n•	 Supreme Slider (a mat you place on your machine to help your material move)\n•	Self-threading needles\n•	Marking pen. I recommend the blue\, wash away one or Frixion pen.\n•	A ruler in case you want to make extra lines\n•	Any other notions you need for sewing
URL:https://blainesewing.com/event/free-motion-quilting-on-a-domestic-machine-session-2/
ATTACH;FMTTYPE=image/jpeg:https://blainesewing.com/wp-content/uploads/2025/09/53989656980_a271f45f3e_c_d.jpg
END:VEVENT
END:VCALENDAR