BEGIN:VCALENDAR
VERSION:2.0
PRODID:-//Blaine&#039;s Sewing - ECPv6.15.17.1//NONSGML v1.0//EN
CALSCALE:GREGORIAN
METHOD:PUBLISH
X-WR-CALNAME:Blaine&#039;s Sewing
X-ORIGINAL-URL:https://blainesewing.com
X-WR-CALDESC:Events for Blaine&#039;s Sewing
REFRESH-INTERVAL;VALUE=DURATION:PT1H
X-Robots-Tag:noindex
X-PUBLISHED-TTL:PT1H
BEGIN:VTIMEZONE
TZID:UTC
BEGIN:STANDARD
TZOFFSETFROM:+0000
TZOFFSETTO:+0000
TZNAME:UTC
DTSTART:20240101T000000
END:STANDARD
END:VTIMEZONE
BEGIN:VEVENT
DTSTART;TZID=UTC:20250809T103000
DTEND;TZID=UTC:20250809T123000
DTSTAMP:20260420T134711
CREATED:20250709T183458Z
LAST-MODIFIED:20250709T183645Z
UID:1043-1754735400-1754742600@blainesewing.com
SUMMARY:Ana & Elsa Quilt Class
DESCRIPTION:Imagine being able to finish not 1 but 2 quilts at once!  Using Gudrun Erla’s ruler makes it even quicker and more efficient. There’s little to no fabric waste and you’ll have 2 quilts done! \nClass Date: August 9\, 16\, 30 (3 session class)\nClass Time: 10:30-12:30\nClass Fee: $60 for all 3 sessions \nSupplies list: Stripology Quickies by Gudrun Erla\nyardage according to pattern-remember\, you’ll have 2 quilts when you’re done!\nStripology XL\nand/or Stripology Squared rulers\nRotary cutter with a new blade\nNeutral/matching thread\nSewing machine with new needle in place\nBest Press\nGEasy Ruler stickers–optional\nSense of humor!
URL:https://blainesewing.com/event/ana-elsa-quilt-class/
LOCATION:Blaine’s Sewing Machine Center\, 1280 Oaklawn Ave\, Cranston\, RI\, 02920\, United States
ATTACH;FMTTYPE=image/jpeg:https://blainesewing.com/wp-content/uploads/2025/07/ana-Elsa.jpg
END:VEVENT
BEGIN:VEVENT
DTSTART;TZID=UTC:20250816T103000
DTEND;TZID=UTC:20250816T123000
DTSTAMP:20260420T134711
CREATED:20250709T185515Z
LAST-MODIFIED:20250709T185604Z
UID:1046-1755340200-1755347400@blainesewing.com
SUMMARY:Ana & Elsa Quilt Class
DESCRIPTION:Imagine being able to finish not 1 but 2 quilts at once!  Using Gudrun Erla’s ruler makes it even quicker and more efficient. There’s little to no fabric waste and you’ll have 2 quilts done! \nClass Date: SESSION 2 August 16\, August 30th\nClass Time: 10:30-12:30\nClass Fee: $60 for all 3 sessions \nSupplies list: Stripology Quickies by Gudrun Erla\nyardage according to pattern-remember\, you’ll have 2 quilts when you’re done!\nStripology XL\nand/or Stripology Squared rulers\nRotary cutter with a new blade\nNeutral/matching thread\nSewing machine with new needle in place\nBest Press\nGEasy Ruler stickers–optional\nSense of humor!
URL:https://blainesewing.com/event/ana-elsa-quilt-class-2/
LOCATION:Blaine’s Sewing Machine Center\, 1280 Oaklawn Ave\, Cranston\, RI\, 02920\, United States
ATTACH;FMTTYPE=image/jpeg:https://blainesewing.com/wp-content/uploads/2025/07/ana-Elsa.jpg
END:VEVENT
BEGIN:VEVENT
DTSTART;TZID=UTC:20250821T123000
DTEND;TZID=UTC:20250821T133000
DTSTAMP:20260420T134711
CREATED:20250726T190626Z
LAST-MODIFIED:20250726T190641Z
UID:1084-1755779400-1755783000@blainesewing.com
SUMMARY:Lunch & Learn With ME - Free Standing Lace
DESCRIPTION:Unlock the delicate beauty of lace with your embroidery machine! In this month’s L&L lecture class we will be focused on Free Standing Lace (FSL) embroidery! Whether you’re new to machine embroidery or looking to expand your skills\, this class will guide you through the fundamentals and techniques needed to create stunning lace designs that can stand on their own.\nIn this class\, you will learn:\n•	What makes a design suitable for FSL\n•	Best stabilizers and materials for FSL embroidery\n•	How to properly rinse and finish lace for a crisp\, elegant look \nWhen: August 21 2025\nTime: 12:30-1:30\nFee: FREE!\nBring a snack or Lunch\nBring show & tell to be entered win a prize in our classroom drawing\n(project must be present to be entered)
URL:https://blainesewing.com/event/lunch-learn-with-me-free-standing-lace/
ATTACH;FMTTYPE=image/jpeg:https://blainesewing.com/wp-content/uploads/2025/07/download.jpg
END:VEVENT
BEGIN:VEVENT
DTSTART;TZID=UTC:20250830T103000
DTEND;TZID=UTC:20250830T123000
DTSTAMP:20260420T134711
CREATED:20250709T185645Z
LAST-MODIFIED:20250709T185645Z
UID:1047-1756549800-1756557000@blainesewing.com
SUMMARY:Ana & Elsa Quilt Class
DESCRIPTION:Imagine being able to finish not 1 but 2 quilts at once!  Using Gudrun Erla’s ruler makes it even quicker and more efficient. There’s little to no fabric waste and you’ll have 2 quilts done! \nClass Date: SESSION 3 August 30th\nClass Time: 10:30-12:30\nClass Fee: $60 for all 3 sessions \nSupplies list: Stripology Quickies by Gudrun Erla\nyardage according to pattern-remember\, you’ll have 2 quilts when you’re done!\nStripology XL\nand/or Stripology Squared rulers\nRotary cutter with a new blade\nNeutral/matching thread\nSewing machine with new needle in place\nBest Press\nGEasy Ruler stickers–optional\nSense of humor!
URL:https://blainesewing.com/event/ana-elsa-quilt-class-3/
LOCATION:Blaine’s Sewing Machine Center\, 1280 Oaklawn Ave\, Cranston\, RI\, 02920\, United States
ATTACH;FMTTYPE=image/jpeg:https://blainesewing.com/wp-content/uploads/2025/07/ana-Elsa.jpg
END:VEVENT
END:VCALENDAR