BEGIN:VCALENDAR
VERSION:2.0
PRODID:-//Blaine&#039;s Sewing - ECPv6.15.17.1//NONSGML v1.0//EN
CALSCALE:GREGORIAN
METHOD:PUBLISH
X-ORIGINAL-URL:https://blainesewing.com
X-WR-CALDESC:Events for Blaine&#039;s Sewing
REFRESH-INTERVAL;VALUE=DURATION:PT1H
X-Robots-Tag:noindex
X-PUBLISHED-TTL:PT1H
BEGIN:VTIMEZONE
TZID:UTC
BEGIN:STANDARD
TZOFFSETFROM:+0000
TZOFFSETTO:+0000
TZNAME:UTC
DTSTART:20240101T000000
END:STANDARD
END:VTIMEZONE
BEGIN:VEVENT
DTSTART;TZID=UTC:20250503T103000
DTEND;TZID=UTC:20250503T123000
DTSTAMP:20260420T122935
CREATED:20250204T170831Z
LAST-MODIFIED:20250326T141433Z
UID:727-1746268200-1746275400@blainesewing.com
SUMMARY:Mia Quilt Class
DESCRIPTION:Mia Quilt\nThe Mia pattern is a fun and quick pattern to finish and is featured in the Stripology Quickies book by GE Designs. Uses Half Yards or Fat Quarters.  With the help of Stripology Squared or XL ruler\, this quilt really is a breeze! \nDate: May 3rd\, May 24th\, May 31st\nTime: 10:30-12:30\nFee: $60.00 \nSupplies:\n	Stripology Quickies book by Gudrun Erla\n	Yardage according to pattern for size desired\n	Stripology Squared Ruler and cutting mat\n	Neutral thread\n	Rotary cutter with new blade\n	Sewing machine with new needle\n	Sense of humor!
URL:https://blainesewing.com/event/mia-quilt-class/
LOCATION:Blaine’s Sewing Machine Center\, 1280 Oaklawn Ave\, Cranston\, RI\, 02920\, United States
ATTACH;FMTTYPE=image/jpeg:https://blainesewing.com/wp-content/uploads/2025/02/Mia-Quit.jpg
END:VEVENT
BEGIN:VEVENT
DTSTART;TZID=UTC:20250509T093000
DTEND;TZID=UTC:20250509T123000
DTSTAMP:20260420T122935
CREATED:20250409T203641Z
LAST-MODIFIED:20250506T202342Z
UID:874-1746783000-1746793800@blainesewing.com
SUMMARY:Power Up Your Side Hustle Friday
DESCRIPTION:Have you ever dreamed of making your hobby into a business? Expand your horizons and see the money-making potential of a multi needle embroidery machine! Get tips and tricks for turning your embroidery hobby into a successful side hustle. With all the multi needle machines out there\, it may be difficult to determine which one is the best fit for you. Let Brother Educator Rosemary Castilo-Sartin show you what machine will be best to help you increase your efficiency and productivity with ease! \nWhere: Blaine’s Sewing Machine Center\nWhen: Choose from 1 of 2 Sessions\nMay 9th 9:30-12:30\nMay 10th 1:30-4:30\nFee: $15.00\n(Take both Side Hustle & ScanDalous and pay $25)
URL:https://blainesewing.com/event/power-up-your-side-hustle-friday/
LOCATION:Blaine’s Sewing Machine Center\, 1280 Oaklawn Ave\, Cranston\, RI\, 02920\, United States
ATTACH;FMTTYPE=image/jpeg:https://blainesewing.com/wp-content/uploads/2025/04/Side-hustle.jpg
END:VEVENT
BEGIN:VEVENT
DTSTART;TZID=UTC:20250509T133000
DTEND;TZID=UTC:20250509T163000
DTSTAMP:20260420T122935
CREATED:20250409T204417Z
LAST-MODIFIED:20250506T202307Z
UID:878-1746797400-1746808200@blainesewing.com
SUMMARY:ScanDalous Friday
DESCRIPTION:ScanDalous\nThe Brother ScanNcutDX is one item that no sewing room should be without. Join Brother educator Rosemary Castilo-Sartin as she highlights the WOW features that make the ScanNCut DX different from any other machine of its kind. Learn more about why it is the perfect companion to your embroidery machine and even make your very own project to take home!\nWhere Blaine’s sewing Machine Center\nWhen: Choose from 1 of 2 classes\nMay 9th 1:30-4:30\nMay 10th 9:30-12:30\nFee: $15.00\n(Take both ScanDalous & Side Hustle and pay $25)
URL:https://blainesewing.com/event/scandalous-friday/
ATTACH;FMTTYPE=image/jpeg:https://blainesewing.com/wp-content/uploads/2025/04/ScanDalous.jpg
END:VEVENT
BEGIN:VEVENT
DTSTART;TZID=UTC:20250510T093000
DTEND;TZID=UTC:20250510T123000
DTSTAMP:20260420T122935
CREATED:20250409T204551Z
LAST-MODIFIED:20250506T202210Z
UID:880-1746869400-1746880200@blainesewing.com
SUMMARY:ScanDalous Saturday
DESCRIPTION:ScanDalous\nThe Brother ScanNcutDX is one item that no sewing room should be without. Join Brother educator Rosemary Castilo-Sartin as she highlights the WOW features that make the ScanNCut DX different from any other machine of its kind. Learn more about why it is the perfect companion to your embroidery machine and even make your very own project to take home!\nWhere Blaine’s sewing Machine Center\nWhen: Choose from 1 of 2 classes\nMay 9th 1:30-4:30\nMay 10th 9:30-12:30\nFee: $15.00\n(Take both ScanDalous & Side Hustle and pay $25)
URL:https://blainesewing.com/event/scandalous-saturday/
LOCATION:Blaine’s Sewing Machine Center\, 1280 Oaklawn Ave\, Cranston\, RI\, 02920\, United States
ATTACH;FMTTYPE=image/jpeg:https://blainesewing.com/wp-content/uploads/2025/04/ScanDalous.jpg
END:VEVENT
BEGIN:VEVENT
DTSTART;TZID=UTC:20250510T133000
DTEND;TZID=UTC:20250510T163000
DTSTAMP:20260420T122935
CREATED:20250409T203850Z
LAST-MODIFIED:20250506T202109Z
UID:876-1746883800-1746894600@blainesewing.com
SUMMARY:Power Up Your Side Hustle Saturday
DESCRIPTION:Have you ever dreamed of making your hobby into a business? Expand your horizons and see the money-making potential of a multi needle embroidery machine! Get tips and tricks for turning your embroidery hobby into a successful side hustle. With all the multi needle machines out there\, it may be difficult to determine which one is the best fit for you. Let Brother Educator Rosemary Castilo-Sartin show you what machine will be best to help you increase your efficiency and productivity with ease! \nWhere: Blaine’s Sewing Machine Center\nWhen: Choose from 1 of 2 Sessions\nMay 9th 9:30-12:30\nMay 10th 1:30-4:30\nFee: $15.00\n(Take both Side Hustle & ScanDalous and pay $25)
URL:https://blainesewing.com/event/power-up-your-side-hustle-sat/
LOCATION:Blaine’s Sewing Machine Center\, 1280 Oaklawn Ave\, Cranston\, RI\, 02920\, United States
ATTACH;FMTTYPE=image/jpeg:https://blainesewing.com/wp-content/uploads/2025/04/Side-hustle.jpg
END:VEVENT
BEGIN:VEVENT
DTSTART;TZID=UTC:20250514T103000
DTEND;TZID=UTC:20250514T133000
DTSTAMP:20260420T122935
CREATED:20250305T195923Z
LAST-MODIFIED:20250305T200501Z
UID:754-1747218600-1747229400@blainesewing.com
SUMMARY:Quilting 101
DESCRIPTION:Quilting 101\nEverything you need to know before you sew! \nThis class is for the beginner quilter or anyone who needs to brush up on their skills. Session 1 will cover needles\, threads\, rotary cutter use and cutting and accurate quarter inch seams. You will be cutting the pieces for the pattern (at least some\, maybe all!). Session 2 will focus on sewing the quilt top and how to measure for borders.\nWe will be making the Bold Blocks quilt from Fabric Café’s Pretty Darn Quick! Book. There is a sample in the store and kits are available for purchase.\nInstructor: Marilynn Bouclin\nWhere: Blaine’s\nDate:\nSession 1: May 14thth from 10:30 – 1:30\nSession 2: May 28th 10:30 – 1:30\nSession 3: June 11th from 10:30-1:30\nFee: $90.00 for all 3 sessions \nSupplies: All materials listed below are carried by Blaine’s. \nPretty Darn Quick 3-Yard Quilts book\nRuler 6 inches X 24 inches. If you own others\, you can bring them along also\n45 MM rotary cutter with a new blade.\nSewing machine in good working order\nSewing machine manual\, just in case\nPins\nScissors\nMeasuring tape for class 2\nWonder clips to keep cut pieces together\nUniversal Needle for your machine\, 90/14\nThread\nAny other notions you need for sewing
URL:https://blainesewing.com/event/quilting-101/
LOCATION:Blaine’s Sewing Machine Center\, 1280 Oaklawn Ave\, Cranston\, RI\, 02920\, United States
ATTACH;FMTTYPE=image/jpeg:https://blainesewing.com/wp-content/uploads/2025/03/Quilting-101.jpg
END:VEVENT
BEGIN:VEVENT
DTSTART;TZID=UTC:20250522T123000
DTEND;TZID=UTC:20250522T133000
DTSTAMP:20260420T122935
CREATED:20250305T163214Z
LAST-MODIFIED:20250507T161556Z
UID:750-1747917000-1747920600@blainesewing.com
SUMMARY:Lunch & Learn with ME
DESCRIPTION:Trivets\, bowls\, & coasters make great gifts for any occasion\, but we want to elevate our gifts to the next level! In this month’s Lunch & Learn with ME session\, we will be talking about embroidery on rope! This is a great way to customize versatile items to gift or keep while keeping a classic look and feel that anyone will love. We will be covering everything you need to know to get the best results\, tips\, tricks & how-tos\, and the type of embroidery designs you should be using for your creations.\nWhen: May 22nd 2025\nTime: 12:30-1:30\nFee: Free\n*Bring your lunch or snack and Show & Tell*
URL:https://blainesewing.com/event/lunch-learn-with-me/
LOCATION:Blaine’s Sewing Machine Center\, 1280 Oaklawn Ave\, Cranston\, RI\, 02920\, United States
ATTACH;FMTTYPE=image/jpeg:https://blainesewing.com/wp-content/uploads/2025/03/rope-bowls.jpg
END:VEVENT
END:VCALENDAR