BEGIN:VCALENDAR
VERSION:2.0
PRODID:-//Blaine&#039;s Sewing - ECPv6.15.17.1//NONSGML v1.0//EN
CALSCALE:GREGORIAN
METHOD:PUBLISH
X-ORIGINAL-URL:https://blainesewing.com
X-WR-CALDESC:Events for Blaine&#039;s Sewing
REFRESH-INTERVAL;VALUE=DURATION:PT1H
X-Robots-Tag:noindex
X-PUBLISHED-TTL:PT1H
BEGIN:VTIMEZONE
TZID:UTC
BEGIN:STANDARD
TZOFFSETFROM:+0000
TZOFFSETTO:+0000
TZNAME:UTC
DTSTART:20240101T000000
END:STANDARD
END:VTIMEZONE
BEGIN:VEVENT
DTSTART;TZID=UTC:20250319T000000
DTEND;TZID=UTC:20250319T000000
DTSTAMP:20260422T014927
CREATED:20250225T195424Z
LAST-MODIFIED:20250227T210257Z
UID:734-1742342400-1742342400@blainesewing.com
SUMMARY:Placemat Class
DESCRIPTION:Placemats are fun to make for yourself and they make great gifts. For this class\, you will be making 4 placemats by alternating 4 fat quarters. You will finish the tops in the first session. During the second session you will use decorative stitches on your machine to quilt them. You will have the option to either turn them inside out to finish them or bind them\, as in the class sample.* \nWhen: March 19th and 26th\nTime: 10:30 – 1:30\nCost: $60.00 for both sessions\nTeacher: Marilynn Bouclin \nBlaine’s carries all supplies:\n•	Pattern\, provided by teacher\n•	4 coordinating fat quarters (18inches by 22 inches)\n•	1 ¼ yards of fabric for backing- class 2* If you choose to bind then\, you’ll need\n1 ½ yards\n•	1 ¼ yards of batting\n•	Neutral color thread for piecing\n•	Thread for decorative stitching- class 2\n•	45mm rotary cutter with new blade\n•	6 inch by 24 inch ruler\n•	12 ½ inch square ruler if you have one. If not you can use mine\n•	Walking foot- second class\n•	505 basting spray- second class\n•	Cushion for chair\n•	Sewing machine and manual\n•	Notions you use for sewing\n•	I will provide cutting mats. Depending on the number of students\, you may have to bring one\, either 18”x 24” or 24” x 36”
URL:https://blainesewing.com/event/placemat-class/
LOCATION:Blaine’s Sewing Machine Center\, 1280 Oaklawn Ave\, Cranston\, RI\, 02920\, United States
ATTACH;FMTTYPE=image/jpeg:https://blainesewing.com/wp-content/uploads/2025/02/20250222_141900.jpg
END:VEVENT
END:VCALENDAR