BEGIN:VCALENDAR
VERSION:2.0
PRODID:-//Blaine&#039;s Sewing - ECPv6.15.17.1//NONSGML v1.0//EN
CALSCALE:GREGORIAN
METHOD:PUBLISH
X-WR-CALNAME:Blaine&#039;s Sewing
X-ORIGINAL-URL:https://blainesewing.com
X-WR-CALDESC:Events for Blaine&#039;s Sewing
REFRESH-INTERVAL;VALUE=DURATION:PT1H
X-Robots-Tag:noindex
X-PUBLISHED-TTL:PT1H
BEGIN:VTIMEZONE
TZID:UTC
BEGIN:STANDARD
TZOFFSETFROM:+0000
TZOFFSETTO:+0000
TZNAME:UTC
DTSTART:20250101T000000
END:STANDARD
END:VTIMEZONE
BEGIN:VEVENT
DTSTART;TZID=UTC:20260423T170000
DTEND;TZID=UTC:20260423T190000
DTSTAMP:20260424T061337
CREATED:20260402T190454Z
LAST-MODIFIED:20260402T190454Z
UID:1505-1776963600-1776970800@blainesewing.com
SUMMARY:Sewing With Donna PM
DESCRIPTION:Call the store for more info today!
URL:https://blainesewing.com/event/sewing-with-donna-pm-22/
END:VEVENT
BEGIN:VEVENT
DTSTART;TZID=UTC:20260425T103000
DTEND;TZID=UTC:20260425T143000
DTSTAMP:20260424T061337
CREATED:20260402T191543Z
LAST-MODIFIED:20260402T191642Z
UID:1510-1777113000-1777127400@blainesewing.com
SUMMARY:Tote It
DESCRIPTION:Create a beautiful bag using vinyl screening\, perfect for the beach or on the go! This tote has a one piece easy to stitch top strip\, sturdy straps around the bottom to support heavy loads\, and a wide opening to easily insert grocery or beach items.\nWhen: April 25 2026\nTime: 10:30-2:30\nFee:$35.00 \nSupply List:\nPlease have pattern pieces “VERSION A” cut and labeled for class. We will be making the flanged option in class\, if you would like piping please make prior to class according to pattern directions. \n”	Sewing machine in good working order\n”	New size 90/14 sharps needle (bring extras just in case)\n”	Coordinating thread and full bobbin wound to match\n”	¼” presser foot\n”	Ditch quilting foot\n”	Tote It! pattern\n”	1″ wide webbing for straps – 3.5yds\n”	3/4yd fabric for pockets and lining\n”	If you want to use the same fabric for the top band and pocket trim purchase 1/2yd of fabric\, if you want your band to be different fabric follow the pattern yardage directions\n”	Wonder clips\n”	Pins\n”	Tape measure\n”	Scissors\n”	Rotary cutter & ruler\n”	Frixion marker\nPrior to class please cut out and label the following:\n”	One screen piece 18″x32″\n”	Two strips of fabric 3 ¾” x 19″ for top trim\n”	Two strips 7″x19″ for outside pocket\n”	Two strips 7″x19″ for pocket lining\n”	Two pieces cotton batting 8″x20″\n”	Four strips 1 ½” x 19″ for pockets trim\n”	Two strips 2 ½” x 18″ for binding
URL:https://blainesewing.com/event/tote-it/
ATTACH;FMTTYPE=image/jpeg:https://blainesewing.com/wp-content/uploads/2026/04/Tote-it.jpg
END:VEVENT
BEGIN:VEVENT
DTSTART;TZID=UTC:20260428T103000
DTEND;TZID=UTC:20260428T123000
DTSTAMP:20260424T061337
CREATED:20260402T190343Z
LAST-MODIFIED:20260402T190343Z
UID:1504-1777372200-1777379400@blainesewing.com
SUMMARY:Sewing With Donna AM
DESCRIPTION:Open Sew\, studio style sewing session held on Tuesday mornings or Thursday evenings\, bring you project and Donna will help you start to finish!
URL:https://blainesewing.com/event/sewing-with-donna-am-28/
ATTACH;FMTTYPE=image/jpeg:https://blainesewing.com/wp-content/uploads/2025/09/Sewing-with-Donna.jpg
END:VEVENT
BEGIN:VEVENT
DTSTART;TZID=UTC:20260429T103000
DTEND;TZID=UTC:20260429T143000
DTSTAMP:20260424T061337
CREATED:20260402T192004Z
LAST-MODIFIED:20260402T192522Z
UID:1513-1777458600-1777473000@blainesewing.com
SUMMARY:Skill Builder: Half Square Triangles
DESCRIPTION:Skill Builder: Half Square Triangles\,\nWorking with Bias Seams\nWelcome to the Skill Builders Series. Each class will focus on 2 quilting skills. In this class you will learn to work with half square triangles and bias edges. If needed\, you will also learn accurate cutting and accurate ¼ inch seams. Teacher will provide the pattern. Please note that you might not finish the quilt top\, but you will have constructed enough blocks to finish on your own.\nInstructor: Marilynn Bouclin\nDates: Wednesday\, April 29th\nCost: $45.00\nSupplies: All materials below are available at Blaine’s\n”	Sewing machine and manual\, just in case\n”	Cushion for chair\n”	6 fat quarters for blocks\n”	1 yard of background fabric\n”	½ yard of coordinating fabric for binding\n”	Ruler\, 6 inches by 24 inches\n”	Ruler\, 10 inch square or larger square\n”	Rotary cutter with a new blade\n”	Neutral color thread for piecing\n”	Universal needle size 90/14\n”	Pins\n”	Wonder clips to keep cut pieces together\n”	Any other notions you need for sewing
URL:https://blainesewing.com/event/skill-builder-half-square-triangles/
ATTACH;FMTTYPE=image/jpeg:https://blainesewing.com/wp-content/uploads/2026/04/Skill-Builder.jpg
END:VEVENT
BEGIN:VEVENT
DTSTART;TZID=UTC:20260430T103000
DTEND;TZID=UTC:20260430T143000
DTSTAMP:20260424T061337
CREATED:20260402T192820Z
LAST-MODIFIED:20260402T192820Z
UID:1519-1777545000-1777559400@blainesewing.com
SUMMARY:Braided Twist Table Runner
DESCRIPTION:The Braided Twist is a unique pattern.  With these amazing curved templates\, you can make stunning curved fabric combinations.\nClass Date: Thursday\, April 30\, 2026\nClass Time: 10:00 – 4:00 with a break for snack/lunch\nClass Fee:  $35\nSkill Level: intermediate  \nSupplies list:\nBraided Twist Duet book and templates\nFabric for 11” x 28” runner (non-directional prints):\nFabric A (end caps and center): ? yard\nFabric B (center): ? yard\nFabric K (backing): ¾ yard\nSingle Sided Fusible Fleece: ¾ yard (or enough for [8]– 6” x 12” rectangles)\nYardage for 11” x 39” and 11” x 50” runners is included in the book.\nSewing machine in good working order and new 80/12 or 90/14 needle.\nThread for piecing and matching Bobbin\nThread for top stitching and matching Bobbin\nStraight Pins\nRotary cutter and mat\nFabric glue\, washable (optional)\nMarking pen\nScissors\nPersonal iron and ironing mat (optional)\n***PRE-CLASS HOMEWORK***\nSee the cutting chart on page 24 of the book for the cutting measurements for the Junior Runner – 4 circle.  Only cut the squares and rectangles listed.  Label your pieces A\, B\, K as noted.\nPlease contact Pamela at the store if you have any questions.
URL:https://blainesewing.com/event/braided-twist-table-runner/
END:VEVENT
BEGIN:VEVENT
DTSTART;TZID=UTC:20260430T170000
DTEND;TZID=UTC:20260430T190000
DTSTAMP:20260424T061337
CREATED:20260402T190534Z
LAST-MODIFIED:20260402T190738Z
UID:1506-1777568400-1777575600@blainesewing.com
SUMMARY:Sewing With Donna PM
DESCRIPTION:Call the store for more info today!
URL:https://blainesewing.com/event/sewing-with-donna-pm-23/
END:VEVENT
BEGIN:VEVENT
DTSTART;TZID=UTC:20260502T103000
DTEND;TZID=UTC:20260502T143000
DTSTAMP:20260424T061337
CREATED:20260402T192322Z
LAST-MODIFIED:20260402T192322Z
UID:1517-1777717800-1777732200@blainesewing.com
SUMMARY:Skill Builder: Half Square Triangles
DESCRIPTION:Skill Builder: Half Square Triangles\,\nWorking with Bias Seams\nWelcome to the Skill Builders Series. Each class will focus on 2 quilting skills. In this class you will learn to work with half square triangles and bias edges. If needed\, you will also learn accurate cutting and accurate ¼ inch seams. Teacher will provide the pattern. Please note that you might not finish the quilt top\, but you will have constructed enough blocks to finish on your own.\nInstructor: Marilynn Bouclin\nDates: Saturday\, May 2nd 2026\nCost: $45.00\nSupplies: All materials below are available at Blaine’s\n”	Sewing machine and manual\, just in case\n”	Cushion for chair\n”	6 fat quarters for blocks\n”	1 yard of background fabric\n”	½ yard of coordinating fabric for binding\n”	Ruler\, 6 inches by 24 inches\n”	Ruler\, 10 inch square or larger square\n”	Rotary cutter with a new blade\n”	Neutral color thread for piecing\n”	Universal needle size 90/14\n”	Pins\n”	Wonder clips to keep cut pieces together\n”	Any other notions you need for sewing
URL:https://blainesewing.com/event/skill-builder-half-square-triangles-2/
ATTACH;FMTTYPE=image/jpeg:https://blainesewing.com/wp-content/uploads/2026/04/Skill-Builder.jpg
END:VEVENT
BEGIN:VEVENT
DTSTART;TZID=UTC:20260505T103000
DTEND;TZID=UTC:20260505T123000
DTSTAMP:20260424T061337
CREATED:20260424T014845Z
LAST-MODIFIED:20260424T014845Z
UID:1543-1777977000-1777984200@blainesewing.com
SUMMARY:Sewing With Donna AM
DESCRIPTION:Open Sew\, studio style sewing session held on Tuesday mornings or Thursday evenings\, bring you project and Donna will help you start to finish!
URL:https://blainesewing.com/event/sewing-with-donna-am-29/
ATTACH;FMTTYPE=image/jpeg:https://blainesewing.com/wp-content/uploads/2025/09/Sewing-with-Donna.jpg
END:VEVENT
BEGIN:VEVENT
DTSTART;TZID=UTC:20260507T170000
DTEND;TZID=UTC:20260507T190000
DTSTAMP:20260424T061337
CREATED:20260424T015515Z
LAST-MODIFIED:20260424T015515Z
UID:1552-1778173200-1778180400@blainesewing.com
SUMMARY:Sewing With Donna PM
DESCRIPTION:Call the store for more info today!
URL:https://blainesewing.com/event/sewing-with-donna-pm-24/
END:VEVENT
BEGIN:VEVENT
DTSTART;TZID=UTC:20260512T103000
DTEND;TZID=UTC:20260512T123000
DTSTAMP:20260424T061337
CREATED:20260424T014952Z
LAST-MODIFIED:20260424T014952Z
UID:1544-1778581800-1778589000@blainesewing.com
SUMMARY:Sewing With Donna AM
DESCRIPTION:Open Sew\, studio style sewing session held on Tuesday mornings or Thursday evenings\, bring you project and Donna will help you start to finish!
URL:https://blainesewing.com/event/sewing-with-donna-am-30/
ATTACH;FMTTYPE=image/jpeg:https://blainesewing.com/wp-content/uploads/2025/09/Sewing-with-Donna.jpg
END:VEVENT
BEGIN:VEVENT
DTSTART;TZID=UTC:20260514T170000
DTEND;TZID=UTC:20260514T190000
DTSTAMP:20260424T061337
CREATED:20260424T015556Z
LAST-MODIFIED:20260424T015556Z
UID:1553-1778778000-1778785200@blainesewing.com
SUMMARY:Sewing With Donna PM
DESCRIPTION:Call the store for more info today!
URL:https://blainesewing.com/event/sewing-with-donna-pm-25/
END:VEVENT
BEGIN:VEVENT
DTSTART;TZID=UTC:20260519T103000
DTEND;TZID=UTC:20260519T123000
DTSTAMP:20260424T061337
CREATED:20260424T015049Z
LAST-MODIFIED:20260424T015049Z
UID:1545-1779186600-1779193800@blainesewing.com
SUMMARY:Sewing With Donna AM
DESCRIPTION:Open Sew\, studio style sewing session held on Tuesday mornings or Thursday evenings\, bring you project and Donna will help you start to finish!
URL:https://blainesewing.com/event/sewing-with-donna-am-31/
ATTACH;FMTTYPE=image/jpeg:https://blainesewing.com/wp-content/uploads/2025/09/Sewing-with-Donna.jpg
END:VEVENT
BEGIN:VEVENT
DTSTART;TZID=UTC:20260521T170000
DTEND;TZID=UTC:20260521T190000
DTSTAMP:20260424T061337
CREATED:20260424T015638Z
LAST-MODIFIED:20260424T015638Z
UID:1554-1779382800-1779390000@blainesewing.com
SUMMARY:Sewing With Donna PM
DESCRIPTION:Call the store for more info today!
URL:https://blainesewing.com/event/sewing-with-donna-pm-26/
END:VEVENT
BEGIN:VEVENT
DTSTART;TZID=UTC:20260525T080000
DTEND;TZID=UTC:20260525T170000
DTSTAMP:20260424T061337
CREATED:20260424T021942Z
LAST-MODIFIED:20260424T021942Z
UID:1566-1779696000-1779728400@blainesewing.com
SUMMARY:Happy Memorial Day - Closed
DESCRIPTION:
URL:https://blainesewing.com/event/happy-memorial-day-closed/
ATTACH;FMTTYPE=image/png:https://blainesewing.com/wp-content/uploads/2026/04/mem-day.png
END:VEVENT
BEGIN:VEVENT
DTSTART;TZID=UTC:20260526T103000
DTEND;TZID=UTC:20260526T123000
DTSTAMP:20260424T061337
CREATED:20260424T015131Z
LAST-MODIFIED:20260424T015131Z
UID:1547-1779791400-1779798600@blainesewing.com
SUMMARY:Sewing With Donna AM
DESCRIPTION:Open Sew\, studio style sewing session held on Tuesday mornings or Thursday evenings\, bring you project and Donna will help you start to finish!
URL:https://blainesewing.com/event/sewing-with-donna-am-32/
ATTACH;FMTTYPE=image/jpeg:https://blainesewing.com/wp-content/uploads/2025/09/Sewing-with-Donna.jpg
END:VEVENT
BEGIN:VEVENT
DTSTART;TZID=UTC:20260528T170000
DTEND;TZID=UTC:20260528T190000
DTSTAMP:20260424T061337
CREATED:20260424T015715Z
LAST-MODIFIED:20260424T015715Z
UID:1555-1779987600-1779994800@blainesewing.com
SUMMARY:Sewing With Donna PM
DESCRIPTION:Call the store for more info today!
URL:https://blainesewing.com/event/sewing-with-donna-pm-27/
END:VEVENT
BEGIN:VEVENT
DTSTART;TZID=UTC:20260530T103000
DTEND;TZID=UTC:20260530T143000
DTSTAMP:20260424T061337
CREATED:20260424T020953Z
LAST-MODIFIED:20260424T021158Z
UID:1561-1780137000-1780151400@blainesewing.com
SUMMARY:Birds in Bloom Machine Embroidery Wallhanging (Class 1)
DESCRIPTION:Celebrate the beauty of Spring with this charming wall hanging featuring flowers in bloom and cheerful birds. Explore creative machine embroidery techniques in this two-session class. You’ll learn how to manage layering\, placement\, and construction\, with special focus on creating 3D bird wings and flowers for added texture and dimension. This project is a great opportunity to build confidence with multi-step embroidery and finishing techniques while creating a beautiful seasonal piece.\nFinished size: approx. 14” x 27” | Minimum hoop size: 8” x 8” | multi-formatted\nWhen: May 30th & June 13th (2 Part Class)\nTime: 10:30-2:30\nFee: $65.00 (Includes embroidery design collection with directions) \nSupply list:\n•	Embroidery machine in good working order with new 80/12 Sharp needle\n•	Bobbin thread wound with machine specific thread (bring spool with you)\n•	*8×8 & 5×7 hoop (machine must have the ability to sew in an 8×8 field)\n•	Polymesh stabilizer\n•	1yd batting\n•	1yd Face-it soft\n•	6×6 square of heat n bond\n•	10 Fat quarters (We will have bundles available)\n•	1/3yd light blue fabric (outer borders)\n•	Pinking shears\n•	Tearaway tape\n•	Snips (applique scissors)\n•	Frixion marker\nThread (Suggestions):\n•	0020 Black\n•	0311 Medium Yellow\n•	0520 Light Yellow\n•	0800 Dark Yellow\n•	0853 Light Brown\n•	0870 Linen\n•	2155 Pink\n•	3230 Dark Pink\n•	3652 Blue\n•	4174 Charcoal\n•	4620 Teal\n•	5822 Light Green\n•	5933 Dark Green
URL:https://blainesewing.com/event/birds-in-bloom-machine-embroidery-wallhanging/
ATTACH;FMTTYPE=image/jpeg:https://blainesewing.com/wp-content/uploads/2026/04/birds.jpg
END:VEVENT
BEGIN:VEVENT
DTSTART;TZID=UTC:20260602T103000
DTEND;TZID=UTC:20260602T123000
DTSTAMP:20260424T061337
CREATED:20260424T015206Z
LAST-MODIFIED:20260424T015206Z
UID:1546-1780396200-1780403400@blainesewing.com
SUMMARY:Sewing With Donna AM
DESCRIPTION:Open Sew\, studio style sewing session held on Tuesday mornings or Thursday evenings\, bring you project and Donna will help you start to finish!
URL:https://blainesewing.com/event/sewing-with-donna-am-33/
ATTACH;FMTTYPE=image/jpeg:https://blainesewing.com/wp-content/uploads/2025/09/Sewing-with-Donna.jpg
END:VEVENT
BEGIN:VEVENT
DTSTART;TZID=UTC:20260604T170000
DTEND;TZID=UTC:20260604T190000
DTSTAMP:20260424T061337
CREATED:20260424T015757Z
LAST-MODIFIED:20260424T015757Z
UID:1556-1780592400-1780599600@blainesewing.com
SUMMARY:Sewing With Donna PM
DESCRIPTION:Call the store for more info today!
URL:https://blainesewing.com/event/sewing-with-donna-pm-28/
END:VEVENT
BEGIN:VEVENT
DTSTART;TZID=UTC:20260609T103000
DTEND;TZID=UTC:20260609T123000
DTSTAMP:20260424T061337
CREATED:20260424T015233Z
LAST-MODIFIED:20260424T015233Z
UID:1548-1781001000-1781008200@blainesewing.com
SUMMARY:Sewing With Donna AM
DESCRIPTION:Open Sew\, studio style sewing session held on Tuesday mornings or Thursday evenings\, bring you project and Donna will help you start to finish!
URL:https://blainesewing.com/event/sewing-with-donna-am-34/
ATTACH;FMTTYPE=image/jpeg:https://blainesewing.com/wp-content/uploads/2025/09/Sewing-with-Donna.jpg
END:VEVENT
BEGIN:VEVENT
DTSTART;TZID=UTC:20260611T170000
DTEND;TZID=UTC:20260611T190000
DTSTAMP:20260424T061337
CREATED:20260424T015834Z
LAST-MODIFIED:20260424T015834Z
UID:1557-1781197200-1781204400@blainesewing.com
SUMMARY:Sewing With Donna PM
DESCRIPTION:Call the store for more info today!
URL:https://blainesewing.com/event/sewing-with-donna-pm-29/
END:VEVENT
BEGIN:VEVENT
DTSTART;TZID=UTC:20260613T103000
DTEND;TZID=UTC:20260613T143000
DTSTAMP:20260424T061337
CREATED:20260424T021110Z
LAST-MODIFIED:20260424T021110Z
UID:1563-1781346600-1781361000@blainesewing.com
SUMMARY:Birds in Bloom Machine Embroidery Wallhanging (Class 2)
DESCRIPTION:Celebrate the beauty of Spring with this charming wall hanging featuring flowers in bloom and cheerful birds. Explore creative machine embroidery techniques in this two-session class. You’ll learn how to manage layering\, placement\, and construction\, with special focus on creating 3D bird wings and flowers for added texture and dimension. This project is a great opportunity to build confidence with multi-step embroidery and finishing techniques while creating a beautiful seasonal piece.\nFinished size: approx. 14” x 27” | Minimum hoop size: 8” x 8” | multi-formatted\nWhen: May 30th & June 13th (2 part Class)\nTime: 10:30-2:30\nFee: $65.00 (Includes embroidery design collection with directions) \nSupply list:\n•	Embroidery machine in good working order with new 80/12 Sharp needle\n•	Bobbin thread wound with machine specific thread (bring spool with you)\n•	*8×8 & 5×7 hoop (machine must have the ability to sew in an 8×8 field)\n•	Polymesh stabilizer\n•	1yd batting\n•	1yd Face-it soft\n•	6×6 square of heat n bond\n•	10 Fat quarters (We will have bundles available)\n•	1/3yd light blue fabric (outer borders)\n•	Pinking shears\n•	Tearaway tape\n•	Snips (applique scissors)\n•	Frixion marker\nThread (Suggestions):\n•	0020 Black\n•	0311 Medium Yellow\n•	0520 Light Yellow\n•	0800 Dark Yellow\n•	0853 Light Brown\n•	0870 Linen\n•	2155 Pink\n•	3230 Dark Pink\n•	3652 Blue\n•	4174 Charcoal\n•	4620 Teal\n•	5822 Light Green\n•	5933 Dark Green
URL:https://blainesewing.com/event/birds-in-bloom-machine-embroidery-wallhanging-class-2/
ATTACH;FMTTYPE=image/jpeg:https://blainesewing.com/wp-content/uploads/2026/04/birds.jpg
END:VEVENT
BEGIN:VEVENT
DTSTART;TZID=UTC:20260616T103000
DTEND;TZID=UTC:20260616T123000
DTSTAMP:20260424T061337
CREATED:20260424T015306Z
LAST-MODIFIED:20260424T015306Z
UID:1549-1781605800-1781613000@blainesewing.com
SUMMARY:Sewing With Donna AM
DESCRIPTION:Open Sew\, studio style sewing session held on Tuesday mornings or Thursday evenings\, bring you project and Donna will help you start to finish!
URL:https://blainesewing.com/event/sewing-with-donna-am-35/
ATTACH;FMTTYPE=image/jpeg:https://blainesewing.com/wp-content/uploads/2025/09/Sewing-with-Donna.jpg
END:VEVENT
BEGIN:VEVENT
DTSTART;TZID=UTC:20260618T170000
DTEND;TZID=UTC:20260618T190000
DTSTAMP:20260424T061337
CREATED:20260424T015921Z
LAST-MODIFIED:20260424T015921Z
UID:1558-1781802000-1781809200@blainesewing.com
SUMMARY:Sewing With Donna PM
DESCRIPTION:Call the store for more info today!
URL:https://blainesewing.com/event/sewing-with-donna-pm-30/
END:VEVENT
BEGIN:VEVENT
DTSTART;TZID=UTC:20260623T103000
DTEND;TZID=UTC:20260623T123000
DTSTAMP:20260424T061337
CREATED:20260424T015335Z
LAST-MODIFIED:20260424T015335Z
UID:1550-1782210600-1782217800@blainesewing.com
SUMMARY:Sewing With Donna AM
DESCRIPTION:Open Sew\, studio style sewing session held on Tuesday mornings or Thursday evenings\, bring you project and Donna will help you start to finish!
URL:https://blainesewing.com/event/sewing-with-donna-am-36/
ATTACH;FMTTYPE=image/jpeg:https://blainesewing.com/wp-content/uploads/2025/09/Sewing-with-Donna.jpg
END:VEVENT
BEGIN:VEVENT
DTSTART;TZID=UTC:20260625T170000
DTEND;TZID=UTC:20260625T190000
DTSTAMP:20260424T061337
CREATED:20260424T015952Z
LAST-MODIFIED:20260424T015952Z
UID:1559-1782406800-1782414000@blainesewing.com
SUMMARY:Sewing With Donna PM
DESCRIPTION:Call the store for more info today!
URL:https://blainesewing.com/event/sewing-with-donna-pm-31/
END:VEVENT
BEGIN:VEVENT
DTSTART;TZID=UTC:20260630T103000
DTEND;TZID=UTC:20260630T123000
DTSTAMP:20260424T061337
CREATED:20260424T015420Z
LAST-MODIFIED:20260424T015420Z
UID:1551-1782815400-1782822600@blainesewing.com
SUMMARY:Sewing With Donna AM
DESCRIPTION:Open Sew\, studio style sewing session held on Tuesday mornings or Thursday evenings\, bring you project and Donna will help you start to finish!
URL:https://blainesewing.com/event/sewing-with-donna-am-37/
ATTACH;FMTTYPE=image/jpeg:https://blainesewing.com/wp-content/uploads/2025/09/Sewing-with-Donna.jpg
END:VEVENT
BEGIN:VEVENT
DTSTART;TZID=UTC:20260702T170000
DTEND;TZID=UTC:20260702T190000
DTSTAMP:20260424T061337
CREATED:20260424T020103Z
LAST-MODIFIED:20260424T020103Z
UID:1560-1783011600-1783018800@blainesewing.com
SUMMARY:Sewing With Donna PM
DESCRIPTION:Call the store for more info today!
URL:https://blainesewing.com/event/sewing-with-donna-pm-32/
END:VEVENT
BEGIN:VEVENT
DTSTART;TZID=UTC:20260704T080000
DTEND;TZID=UTC:20260704T170000
DTSTAMP:20260424T061337
CREATED:20260424T021638Z
LAST-MODIFIED:20260424T021638Z
UID:1564-1783152000-1783184400@blainesewing.com
SUMMARY:Happy 4th Of July - Closed
DESCRIPTION:
URL:https://blainesewing.com/event/happy-4th-of-july-closed/
ATTACH;FMTTYPE=image/jpeg:https://blainesewing.com/wp-content/uploads/2026/04/4th.jpg
END:VEVENT
END:VCALENDAR