BEGIN:VCALENDAR
VERSION:2.0
PRODID:-//Blaine&#039;s Sewing - ECPv6.15.17.1//NONSGML v1.0//EN
CALSCALE:GREGORIAN
METHOD:PUBLISH
X-WR-CALNAME:Blaine&#039;s Sewing
X-ORIGINAL-URL:https://blainesewing.com
X-WR-CALDESC:Events for Blaine&#039;s Sewing
REFRESH-INTERVAL;VALUE=DURATION:PT1H
X-Robots-Tag:noindex
X-PUBLISHED-TTL:PT1H
BEGIN:VTIMEZONE
TZID:UTC
BEGIN:STANDARD
TZOFFSETFROM:+0000
TZOFFSETTO:+0000
TZNAME:UTC
DTSTART:20250101T000000
END:STANDARD
END:VTIMEZONE
BEGIN:VEVENT
DTSTART;TZID=UTC:20260630T103000
DTEND;TZID=UTC:20260630T123000
DTSTAMP:20260424T140323
CREATED:20260424T015420Z
LAST-MODIFIED:20260424T015420Z
UID:1551-1782815400-1782822600@blainesewing.com
SUMMARY:Sewing With Donna AM
DESCRIPTION:Open Sew\, studio style sewing session held on Tuesday mornings or Thursday evenings\, bring you project and Donna will help you start to finish!
URL:https://blainesewing.com/event/sewing-with-donna-am-37/
ATTACH;FMTTYPE=image/jpeg:https://blainesewing.com/wp-content/uploads/2025/09/Sewing-with-Donna.jpg
END:VEVENT
BEGIN:VEVENT
DTSTART;TZID=UTC:20260702T170000
DTEND;TZID=UTC:20260702T190000
DTSTAMP:20260424T140323
CREATED:20260424T020103Z
LAST-MODIFIED:20260424T020103Z
UID:1560-1783011600-1783018800@blainesewing.com
SUMMARY:Sewing With Donna PM
DESCRIPTION:Call the store for more info today!
URL:https://blainesewing.com/event/sewing-with-donna-pm-32/
END:VEVENT
BEGIN:VEVENT
DTSTART;TZID=UTC:20260704T080000
DTEND;TZID=UTC:20260704T170000
DTSTAMP:20260424T140323
CREATED:20260424T021638Z
LAST-MODIFIED:20260424T021638Z
UID:1564-1783152000-1783184400@blainesewing.com
SUMMARY:Happy 4th Of July - Closed
DESCRIPTION:
URL:https://blainesewing.com/event/happy-4th-of-july-closed/
ATTACH;FMTTYPE=image/jpeg:https://blainesewing.com/wp-content/uploads/2026/04/4th.jpg
END:VEVENT
END:VCALENDAR