BEGIN:VCALENDAR
VERSION:2.0
PRODID:-//Blaine&#039;s Sewing - ECPv6.15.17.1//NONSGML v1.0//EN
CALSCALE:GREGORIAN
METHOD:PUBLISH
X-ORIGINAL-URL:https://blainesewing.com
X-WR-CALDESC:Events for Blaine&#039;s Sewing
REFRESH-INTERVAL;VALUE=DURATION:PT1H
X-Robots-Tag:noindex
X-PUBLISHED-TTL:PT1H
BEGIN:VTIMEZONE
TZID:UTC
BEGIN:STANDARD
TZOFFSETFROM:+0000
TZOFFSETTO:+0000
TZNAME:UTC
DTSTART:20250101T000000
END:STANDARD
END:VTIMEZONE
BEGIN:VEVENT
DTSTART;TZID=UTC:20260117T103000
DTEND;TZID=UTC:20260117T123000
DTSTAMP:20260424T080241
CREATED:20251119T015338Z
LAST-MODIFIED:20251210T014234Z
UID:1323-1768645800-1768653000@blainesewing.com
SUMMARY:Metro Twist by Sew kind of wonderful Quilt
DESCRIPTION:Metro Twist by Sew Kind of Wonderful\nUse the Quick Curve Ruler to make this fun lap quilt!\nClass: Date: January 3\, 17\, 24\nClass Time: 10:30-12:30\nFee: $65.00 \nSupply list:\nSew Kind of Wonderful Pattern\nFabric per pattern*(Please bring 10 Fat quarters instead of 8!)\nQuick Curve Ruler by Sew Kind of Wonderful\n6×24 ruler or even better – Stripology XL ruler!\nBest Press is a big help!\nSewing machine with new needle\nRotary cutter with new blade\nneutral thread\nPlease press all fabrics before class\nSense of humor!
URL:https://blainesewing.com/event/metro-twist-by-sew-kind-of-wonderful-quilt-2/
ATTACH;FMTTYPE=image/jpeg:https://blainesewing.com/wp-content/uploads/2025/11/metro-twist.jpg
END:VEVENT
END:VCALENDAR