BEGIN:VCALENDAR
VERSION:2.0
PRODID:-//Blaine&#039;s Sewing - ECPv6.15.17.1//NONSGML v1.0//EN
CALSCALE:GREGORIAN
METHOD:PUBLISH
X-ORIGINAL-URL:https://blainesewing.com
X-WR-CALDESC:Events for Blaine&#039;s Sewing
REFRESH-INTERVAL;VALUE=DURATION:PT1H
X-Robots-Tag:noindex
X-PUBLISHED-TTL:PT1H
BEGIN:VTIMEZONE
TZID:UTC
BEGIN:STANDARD
TZOFFSETFROM:+0000
TZOFFSETTO:+0000
TZNAME:UTC
DTSTART:20250101T000000
END:STANDARD
END:VTIMEZONE
BEGIN:VEVENT
DTSTART;TZID=UTC:20260108T050000
DTEND;TZID=UTC:20260108T190000
DTSTAMP:20260424T075703
CREATED:20251204T012240Z
LAST-MODIFIED:20251204T012240Z
UID:1338-1767848400-1767898800@blainesewing.com
SUMMARY:Sewing With Donna PM
DESCRIPTION:Call the store for more info today!
URL:https://blainesewing.com/event/sewing-with-donna-pm-8/
ATTACH;FMTTYPE=image/jpeg:https://blainesewing.com/wp-content/uploads/2025/09/Sewing-with-Donna.jpg
END:VEVENT
BEGIN:VEVENT
DTSTART;TZID=UTC:20260108T103000
DTEND;TZID=UTC:20260108T133000
DTSTAMP:20260424T075703
CREATED:20250325T182145Z
LAST-MODIFIED:20251204T005651Z
UID:859-1767868200-1767879000@blainesewing.com
SUMMARY:Ruler work 101
DESCRIPTION:Are you ready to learn how to use rulers on your home machine? This class will teach you tips and tricks for getting your machine ready for free motion quilting. We will cover thread choice\, batting\, setting tension and the basics of free motion quilting with a straight edge ruler. Samples will be shown using a variety of different rulers. If there’s interest\, future classes will be scheduled. The original classes were a series of 6 classes covering 6 different rulers.\nPlease arrive at least 15 minutes before class to set up your machine. \nSupplies list: All materials listed below are carried by Blaine’s.\n”	Machine with ruler foot\, foot pedal and some kind of extension table. The ruler foot must be purchased separately and is made especially for your machine.\n”	Sewing machine manual\, just in case\n”	Cushion for your seat. The chairs are too low.\n”	Quilting Needle for your machine\, 90/14.\n”	Thread- please bring 2 contrasting colors for checking the tension.\n”	Handi Quilter Mini Scallop ruler or quilting ruler with a straight edge.\n”	(2) 8 inch square muslin quilt sandwiches. We will assemble them during class.\n”	Spray baste. I recommend 505.\n”	Marking pen. I recommend the blue\, wash away one\n”	Westalee Sew Steady spacing gauge\n”	Machingers (gloves for gripping fabric)\n”	Supreme Slider (a mat you place on your machine to help your material move) \nWhere: Blaine’s Sewing Machine Center\nWhen: January 8th 2026\nFee: 45.00 \nPLEASE CALL 401-463-8824 TO REGISTER
URL:https://blainesewing.com/event/ruler-work-101/
LOCATION:Blaine’s Sewing Machine Center\, 1280 Oaklawn Ave\, Cranston\, RI\, 02920\, United States
END:VEVENT
END:VCALENDAR