BEGIN:VCALENDAR
VERSION:2.0
PRODID:-//Blaine&#039;s Sewing - ECPv6.15.17.1//NONSGML v1.0//EN
CALSCALE:GREGORIAN
METHOD:PUBLISH
X-WR-CALNAME:Blaine&#039;s Sewing
X-ORIGINAL-URL:https://blainesewing.com
X-WR-CALDESC:Events for Blaine&#039;s Sewing
REFRESH-INTERVAL;VALUE=DURATION:PT1H
X-Robots-Tag:noindex
X-PUBLISHED-TTL:PT1H
BEGIN:VTIMEZONE
TZID:UTC
BEGIN:STANDARD
TZOFFSETFROM:+0000
TZOFFSETTO:+0000
TZNAME:UTC
DTSTART:20240101T000000
END:STANDARD
END:VTIMEZONE
BEGIN:VEVENT
DTSTART;TZID=UTC:20251225T100000
DTEND;TZID=UTC:20251225T170000
DTSTAMP:20260425T014124
CREATED:20251101T235754Z
LAST-MODIFIED:20251101T235802Z
UID:1294-1766656800-1766682000@blainesewing.com
SUMMARY:Merry Christmas - Closed on 12/25/25
DESCRIPTION:Blaine’s Will be closed today\, 12/25/25 for Christmas
URL:https://blainesewing.com/event/merry-christmas-closed-on-12-25/
ATTACH;FMTTYPE=image/png:https://blainesewing.com/wp-content/uploads/2025/11/Merry.png
END:VEVENT
END:VCALENDAR