BEGIN:VCALENDAR
VERSION:2.0
PRODID:-//Blaine&#039;s Sewing - ECPv6.15.17.1//NONSGML v1.0//EN
CALSCALE:GREGORIAN
METHOD:PUBLISH
X-WR-CALNAME:Blaine&#039;s Sewing
X-ORIGINAL-URL:https://blainesewing.com
X-WR-CALDESC:Events for Blaine&#039;s Sewing
REFRESH-INTERVAL;VALUE=DURATION:PT1H
X-Robots-Tag:noindex
X-PUBLISHED-TTL:PT1H
BEGIN:VTIMEZONE
TZID:UTC
BEGIN:STANDARD
TZOFFSETFROM:+0000
TZOFFSETTO:+0000
TZNAME:UTC
DTSTART:20240101T000000
END:STANDARD
END:VTIMEZONE
BEGIN:VEVENT
DTSTART;TZID=UTC:20250918T123000
DTEND;TZID=UTC:20250918T133000
DTSTAMP:20260423T081012
CREATED:20250902T203639Z
LAST-MODIFIED:20250917T210616Z
UID:1134-1758198600-1758202200@blainesewing.com
SUMMARY:Lunch & Learn with ME - Specialty Fabric
DESCRIPTION:Machine Embroidery on Specialty Fabric \nDiscover the art of machine embroidery on non-traditional fabrics such as Cork\, Screening\, Cardstock\, Leather\, and more. This class is designed for embroidery enthusiasts and textile artists who want to expand their skills beyond standard cotton and polyester. Learn how to stabilize\, hoop\, and embroider on delicate\, stretchy\, or textured materials without puckering\, distortion\, or damage. We’ll cover essential techniques\, recommended needles and threads\, and hooping strategies. You’ll also receive inspiration for your future projects. Whether you’re customizing garments\, crafting accessories\, or working on mixed media art\, this class will give you the confidence and tools to master embroidery on even the most challenging fabrics. \nWhen: September 18th 2025\nTime: 12:30-1:30\nFee: FREE\nBring a lunch or a snack and SHOW AND TELL!
URL:https://blainesewing.com/event/lunch-learn-with-me-specialty-fabric/
LOCATION:Blaine’s Sewing Machine Center\, 1280 Oaklawn Ave\, Cranston\, RI\, 02920\, United States
ATTACH;FMTTYPE=image/jpeg:https://blainesewing.com/wp-content/uploads/2025/09/13016-12__21142.jpg
END:VEVENT
END:VCALENDAR