BEGIN:VCALENDAR
VERSION:2.0
PRODID:-//Blaine&#039;s Sewing - ECPv6.15.17.1//NONSGML v1.0//EN
CALSCALE:GREGORIAN
METHOD:PUBLISH
X-ORIGINAL-URL:https://blainesewing.com
X-WR-CALDESC:Events for Blaine&#039;s Sewing
REFRESH-INTERVAL;VALUE=DURATION:PT1H
X-Robots-Tag:noindex
X-PUBLISHED-TTL:PT1H
BEGIN:VTIMEZONE
TZID:UTC
BEGIN:STANDARD
TZOFFSETFROM:+0000
TZOFFSETTO:+0000
TZNAME:UTC
DTSTART:20240101T000000
END:STANDARD
END:VTIMEZONE
BEGIN:VEVENT
DTSTART;TZID=UTC:20250514T103000
DTEND;TZID=UTC:20250514T133000
DTSTAMP:20260422T120036
CREATED:20250305T195923Z
LAST-MODIFIED:20250305T200501Z
UID:754-1747218600-1747229400@blainesewing.com
SUMMARY:Quilting 101
DESCRIPTION:Quilting 101\nEverything you need to know before you sew! \nThis class is for the beginner quilter or anyone who needs to brush up on their skills. Session 1 will cover needles\, threads\, rotary cutter use and cutting and accurate quarter inch seams. You will be cutting the pieces for the pattern (at least some\, maybe all!). Session 2 will focus on sewing the quilt top and how to measure for borders.\nWe will be making the Bold Blocks quilt from Fabric Café’s Pretty Darn Quick! Book. There is a sample in the store and kits are available for purchase.\nInstructor: Marilynn Bouclin\nWhere: Blaine’s\nDate:\nSession 1: May 14thth from 10:30 – 1:30\nSession 2: May 28th 10:30 – 1:30\nSession 3: June 11th from 10:30-1:30\nFee: $90.00 for all 3 sessions \nSupplies: All materials listed below are carried by Blaine’s. \nPretty Darn Quick 3-Yard Quilts book\nRuler 6 inches X 24 inches. If you own others\, you can bring them along also\n45 MM rotary cutter with a new blade.\nSewing machine in good working order\nSewing machine manual\, just in case\nPins\nScissors\nMeasuring tape for class 2\nWonder clips to keep cut pieces together\nUniversal Needle for your machine\, 90/14\nThread\nAny other notions you need for sewing
URL:https://blainesewing.com/event/quilting-101/
LOCATION:Blaine’s Sewing Machine Center\, 1280 Oaklawn Ave\, Cranston\, RI\, 02920\, United States
ATTACH;FMTTYPE=image/jpeg:https://blainesewing.com/wp-content/uploads/2025/03/Quilting-101.jpg
END:VEVENT
END:VCALENDAR