BEGIN:VCALENDAR
VERSION:2.0
PRODID:-//Blaine&#039;s Sewing - ECPv6.15.17.1//NONSGML v1.0//EN
CALSCALE:GREGORIAN
METHOD:PUBLISH
X-ORIGINAL-URL:https://blainesewing.com
X-WR-CALDESC:Events for Blaine&#039;s Sewing
REFRESH-INTERVAL;VALUE=DURATION:PT1H
X-Robots-Tag:noindex
X-PUBLISHED-TTL:PT1H
BEGIN:VTIMEZONE
TZID:UTC
BEGIN:STANDARD
TZOFFSETFROM:+0000
TZOFFSETTO:+0000
TZNAME:UTC
DTSTART:20240101T000000
END:STANDARD
END:VTIMEZONE
BEGIN:VEVENT
DTSTART;TZID=UTC:20250510T093000
DTEND;TZID=UTC:20250510T123000
DTSTAMP:20260423T185913
CREATED:20250409T204551Z
LAST-MODIFIED:20250506T202210Z
UID:880-1746869400-1746880200@blainesewing.com
SUMMARY:ScanDalous Saturday
DESCRIPTION:ScanDalous\nThe Brother ScanNcutDX is one item that no sewing room should be without. Join Brother educator Rosemary Castilo-Sartin as she highlights the WOW features that make the ScanNCut DX different from any other machine of its kind. Learn more about why it is the perfect companion to your embroidery machine and even make your very own project to take home!\nWhere Blaine’s sewing Machine Center\nWhen: Choose from 1 of 2 classes\nMay 9th 1:30-4:30\nMay 10th 9:30-12:30\nFee: $15.00\n(Take both ScanDalous & Side Hustle and pay $25)
URL:https://blainesewing.com/event/scandalous-saturday/
LOCATION:Blaine’s Sewing Machine Center\, 1280 Oaklawn Ave\, Cranston\, RI\, 02920\, United States
ATTACH;FMTTYPE=image/jpeg:https://blainesewing.com/wp-content/uploads/2025/04/ScanDalous.jpg
END:VEVENT
BEGIN:VEVENT
DTSTART;TZID=UTC:20250510T133000
DTEND;TZID=UTC:20250510T163000
DTSTAMP:20260423T185913
CREATED:20250409T203850Z
LAST-MODIFIED:20250506T202109Z
UID:876-1746883800-1746894600@blainesewing.com
SUMMARY:Power Up Your Side Hustle Saturday
DESCRIPTION:Have you ever dreamed of making your hobby into a business? Expand your horizons and see the money-making potential of a multi needle embroidery machine! Get tips and tricks for turning your embroidery hobby into a successful side hustle. With all the multi needle machines out there\, it may be difficult to determine which one is the best fit for you. Let Brother Educator Rosemary Castilo-Sartin show you what machine will be best to help you increase your efficiency and productivity with ease! \nWhere: Blaine’s Sewing Machine Center\nWhen: Choose from 1 of 2 Sessions\nMay 9th 9:30-12:30\nMay 10th 1:30-4:30\nFee: $15.00\n(Take both Side Hustle & ScanDalous and pay $25)
URL:https://blainesewing.com/event/power-up-your-side-hustle-sat/
LOCATION:Blaine’s Sewing Machine Center\, 1280 Oaklawn Ave\, Cranston\, RI\, 02920\, United States
ATTACH;FMTTYPE=image/jpeg:https://blainesewing.com/wp-content/uploads/2025/04/Side-hustle.jpg
END:VEVENT
END:VCALENDAR